BEGIN:VCALENDAR
VERSION:2.0
PRODID:-//The Children&#039;s Center - ECPv6.15.15//NONSGML v1.0//EN
CALSCALE:GREGORIAN
METHOD:PUBLISH
X-ORIGINAL-URL:https://www.childrenscenterva.com
X-WR-CALDESC:Events for The Children&#039;s Center
REFRESH-INTERVAL;VALUE=DURATION:PT1H
X-Robots-Tag:noindex
X-PUBLISHED-TTL:PT1H
BEGIN:VTIMEZONE
TZID:America/New_York
BEGIN:DAYLIGHT
TZOFFSETFROM:-0500
TZOFFSETTO:-0400
TZNAME:EDT
DTSTART:20230312T070000
END:DAYLIGHT
BEGIN:STANDARD
TZOFFSETFROM:-0400
TZOFFSETTO:-0500
TZNAME:EST
DTSTART:20231105T060000
END:STANDARD
BEGIN:DAYLIGHT
TZOFFSETFROM:-0500
TZOFFSETTO:-0400
TZNAME:EDT
DTSTART:20240310T070000
END:DAYLIGHT
BEGIN:STANDARD
TZOFFSETFROM:-0400
TZOFFSETTO:-0500
TZNAME:EST
DTSTART:20241103T060000
END:STANDARD
BEGIN:DAYLIGHT
TZOFFSETFROM:-0500
TZOFFSETTO:-0400
TZNAME:EDT
DTSTART:20250309T070000
END:DAYLIGHT
BEGIN:STANDARD
TZOFFSETFROM:-0400
TZOFFSETTO:-0500
TZNAME:EST
DTSTART:20251102T060000
END:STANDARD
END:VTIMEZONE
BEGIN:VEVENT
DTSTART;VALUE=DATE:20241213
DTEND;VALUE=DATE:20241214
DTSTAMP:20260423T103804
CREATED:20240815T150134Z
LAST-MODIFIED:20240815T150134Z
UID:10000074-1734048000-1734134399@www.childrenscenterva.com
SUMMARY:All Centers Closed - All Staff Training Day
DESCRIPTION:All centers are closed for All Staff Training Day – December 13.
URL:https://www.childrenscenterva.com/event/all-centers-closed-all-staff-training-day-2/
CATEGORIES:All Parents,Closings
END:VEVENT
BEGIN:VEVENT
DTSTART;VALUE=DATE:20241224
DTEND;VALUE=DATE:20241228
DTSTAMP:20260423T103804
CREATED:20230801T160132Z
LAST-MODIFIED:20240815T145949Z
UID:10000040-1734998400-1735343999@www.childrenscenterva.com
SUMMARY:All Centers Closed - Winter Break
DESCRIPTION:All Centers Closed – December 24\, December 25\, December 26\, and December 27 – Winter Break
URL:https://www.childrenscenterva.com/event/all-centers-closed-winter-break/
CATEGORIES:All Parents,Closings
END:VEVENT
END:VCALENDAR