BEGIN:VCALENDAR
VERSION:2.0
PRODID:-//The Children&#039;s Center - ECPv6.15.15//NONSGML v1.0//EN
CALSCALE:GREGORIAN
METHOD:PUBLISH
X-ORIGINAL-URL:https://www.childrenscenterva.com
X-WR-CALDESC:Events for The Children&#039;s Center
REFRESH-INTERVAL;VALUE=DURATION:PT1H
X-Robots-Tag:noindex
X-PUBLISHED-TTL:PT1H
BEGIN:VTIMEZONE
TZID:America/New_York
BEGIN:DAYLIGHT
TZOFFSETFROM:-0500
TZOFFSETTO:-0400
TZNAME:EDT
DTSTART:20220313T070000
END:DAYLIGHT
BEGIN:STANDARD
TZOFFSETFROM:-0400
TZOFFSETTO:-0500
TZNAME:EST
DTSTART:20221106T060000
END:STANDARD
BEGIN:DAYLIGHT
TZOFFSETFROM:-0500
TZOFFSETTO:-0400
TZNAME:EDT
DTSTART:20230312T070000
END:DAYLIGHT
BEGIN:STANDARD
TZOFFSETFROM:-0400
TZOFFSETTO:-0500
TZNAME:EST
DTSTART:20231105T060000
END:STANDARD
BEGIN:DAYLIGHT
TZOFFSETFROM:-0500
TZOFFSETTO:-0400
TZNAME:EDT
DTSTART:20240310T070000
END:DAYLIGHT
BEGIN:STANDARD
TZOFFSETFROM:-0400
TZOFFSETTO:-0500
TZNAME:EST
DTSTART:20241103T060000
END:STANDARD
BEGIN:DAYLIGHT
TZOFFSETFROM:-0500
TZOFFSETTO:-0400
TZNAME:EDT
DTSTART:20250309T070000
END:DAYLIGHT
BEGIN:STANDARD
TZOFFSETFROM:-0400
TZOFFSETTO:-0500
TZNAME:EST
DTSTART:20251102T060000
END:STANDARD
END:VTIMEZONE
BEGIN:VEVENT
DTSTART;VALUE=DATE:20240927
DTEND;VALUE=DATE:20240928
DTSTAMP:20260423T015047
CREATED:20240815T162025Z
LAST-MODIFIED:20240815T174332Z
UID:10000083-1727395200-1727481599@www.childrenscenterva.com
SUMMARY:EHS and HS Closed - Teacher Work Day
DESCRIPTION:EHS and HS are closed – September 27 – Teacher Work Day
URL:https://www.childrenscenterva.com/event/ehs-closed-teacher-work-day-3/
CATEGORIES:EHS/Head Start Parents,Closings
END:VEVENT
BEGIN:VEVENT
DTSTART;VALUE=DATE:20240830
DTEND;VALUE=DATE:20240831
DTSTAMP:20260423T015047
CREATED:20240708T181636Z
LAST-MODIFIED:20240708T181636Z
UID:10000066-1724976000-1725062399@www.childrenscenterva.com
SUMMARY:EHS Closed - Teacher Work Day
DESCRIPTION:EHS is closed – August 30 – Teacher Work Day
URL:https://www.childrenscenterva.com/event/ehs-closed-teacher-work-day-2/
CATEGORIES:EHS/Head Start Parents,Closings
END:VEVENT
BEGIN:VEVENT
DTSTART;VALUE=DATE:20240727
DTEND;VALUE=DATE:20240728
DTSTAMP:20260423T015047
CREATED:20240708T181557Z
LAST-MODIFIED:20240708T181557Z
UID:10000065-1722038400-1722124799@www.childrenscenterva.com
SUMMARY:EHS Closed - Teacher Work Day
DESCRIPTION:EHS is closed – July 26 – Teacher Work Day
URL:https://www.childrenscenterva.com/event/ehs-closed-teacher-work-day/
CATEGORIES:EHS/Head Start Parents,Closings
END:VEVENT
BEGIN:VEVENT
DTSTART;VALUE=DATE:20240517
DTEND;VALUE=DATE:20240518
DTSTAMP:20260423T015047
CREATED:20230801T164027Z
LAST-MODIFIED:20230801T164027Z
UID:10000051-1715904000-1715990399@www.childrenscenterva.com
SUMMARY:EHS and HS Closed - Teacher Work Day
DESCRIPTION:EHS and HS are closed – May 17 – Teacher Work Day
URL:https://www.childrenscenterva.com/event/ehs-and-hs-closed-teacher-work-day-3/
CATEGORIES:EHS/Head Start Parents,Closings
END:VEVENT
BEGIN:VEVENT
DTSTART;VALUE=DATE:20240517
DTEND;VALUE=DATE:20240518
DTSTAMP:20260423T015047
CREATED:20230801T163614Z
LAST-MODIFIED:20230801T163614Z
UID:10000049-1715904000-1715990399@www.childrenscenterva.com
SUMMARY:EHS/HS Parent Teacher Conference
DESCRIPTION:EHS/HS – Parent-Teacher Conference – May 17
URL:https://www.childrenscenterva.com/event/ehs-hs-parent-teacher-conference/
CATEGORIES:EHS/Head Start Parents
END:VEVENT
BEGIN:VEVENT
DTSTART;VALUE=DATE:20240430
DTEND;VALUE=DATE:20240501
DTSTAMP:20260423T015047
CREATED:20230801T163348Z
LAST-MODIFIED:20230801T163348Z
UID:10000048-1714435200-1714521599@www.childrenscenterva.com
SUMMARY:EHS and HS Closed - Teacher Work Day
DESCRIPTION:EHS and HS are closed – April 30 – Teacher Work Day
URL:https://www.childrenscenterva.com/event/ehs-and-hs-closed-teacher-work-day-2/
CATEGORIES:EHS/Head Start Parents,Closings
END:VEVENT
BEGIN:VEVENT
DTSTART;VALUE=DATE:20240401
DTEND;VALUE=DATE:20240406
DTSTAMP:20260423T015047
CREATED:20240320T142153Z
LAST-MODIFIED:20240320T142236Z
UID:10000054-1711929600-1712361599@www.childrenscenterva.com
SUMMARY:EHS and HS Closed - Spring Break - April 1 to April 5
DESCRIPTION:All EHS and HS classes will be closed April 1 through April 5 for Spring Break.
URL:https://www.childrenscenterva.com/event/ehs-and-hs-closed-spring-break-april-1-to-april-5/
CATEGORIES:EHS/Head Start Parents,Closings
END:VEVENT
BEGIN:VEVENT
DTSTART;VALUE=DATE:20240329
DTEND;VALUE=DATE:20240330
DTSTAMP:20260423T015047
CREATED:20230801T163259Z
LAST-MODIFIED:20230801T163259Z
UID:10000047-1711670400-1711756799@www.childrenscenterva.com
SUMMARY:EHS and HS Closed - Teacher Work Day
DESCRIPTION:EHS and HS are closed –  March 29 – Teacher Work Day
URL:https://www.childrenscenterva.com/event/ehs-and-hs-closed-teacher-work-day/
CATEGORIES:EHS/Head Start Parents,Closings
END:VEVENT
BEGIN:VEVENT
DTSTART;VALUE=DATE:20240215
DTEND;VALUE=DATE:20240216
DTSTAMP:20260423T015047
CREATED:20230801T162439Z
LAST-MODIFIED:20230801T162855Z
UID:10000045-1707955200-1708041599@www.childrenscenterva.com
SUMMARY:EHS and HS Closed - Teacher Work Day
DESCRIPTION:EHS and HS are closed – Teacher Work Day
URL:https://www.childrenscenterva.com/event/ehs-and-hs-closed-all-staff-training-day/
CATEGORIES:EHS/Head Start Parents,Closings
END:VEVENT
BEGIN:VEVENT
DTSTART;VALUE=DATE:20240129
DTEND;VALUE=DATE:20240130
DTSTAMP:20260423T015047
CREATED:20230801T160827Z
LAST-MODIFIED:20230801T162937Z
UID:10000044-1706486400-1706572799@www.childrenscenterva.com
SUMMARY:EHS and HS Closed - Teacher Workday
DESCRIPTION:EHS and HS classes Closed 01/29/2024 – Teacher Workday
URL:https://www.childrenscenterva.com/event/ehs-and-hs-closed-teacher-workday-7/
CATEGORIES:EHS/Head Start Parents,Head Start Parents,EHS Parents,Closings
END:VEVENT
BEGIN:VEVENT
DTSTART;VALUE=DATE:20231218
DTEND;VALUE=DATE:20240102
DTSTAMP:20260423T015047
CREATED:20230801T160301Z
LAST-MODIFIED:20230801T160301Z
UID:10000041-1702857600-1704153599@www.childrenscenterva.com
SUMMARY:EHS and HS Closed - Winter Break
DESCRIPTION:EHS and HS classes will be closed from December 18 thru January 1st.
URL:https://www.childrenscenterva.com/event/ehs-and-hs-closed-winter-break/
CATEGORIES:EHS/Head Start Parents
END:VEVENT
BEGIN:VEVENT
DTSTART;VALUE=DATE:20231122
DTEND;VALUE=DATE:20231123
DTSTAMP:20260423T015047
CREATED:20230801T163935Z
LAST-MODIFIED:20230801T163935Z
UID:10000050-1700611200-1700697599@www.childrenscenterva.com
SUMMARY:EHS/HS Parent Teacher Conference
DESCRIPTION:EHS/HS – Parent-Teacher Conference – November 22
URL:https://www.childrenscenterva.com/event/ehs-hs-parent-teacher-conference-2/
CATEGORIES:EHS/Head Start Parents
END:VEVENT
BEGIN:VEVENT
DTSTART;VALUE=DATE:20231122
DTEND;VALUE=DATE:20231123
DTSTAMP:20260423T015047
CREATED:20230801T155427Z
LAST-MODIFIED:20230801T155427Z
UID:10000037-1700611200-1700697599@www.childrenscenterva.com
SUMMARY:EHS and HS Closed - Teacher Workday
DESCRIPTION:EHS and HS classes Closed 11/22/2023 – Teacher Workday
URL:https://www.childrenscenterva.com/event/ehs-and-hs-closed-teacher-workday-6/
CATEGORIES:EHS/Head Start Parents,Head Start Parents,EHS Parents
END:VEVENT
BEGIN:VEVENT
DTSTART;VALUE=DATE:20231024
DTEND;VALUE=DATE:20231025
DTSTAMP:20260423T015047
CREATED:20230725T195348Z
LAST-MODIFIED:20230801T163031Z
UID:10000036-1698105600-1698191999@www.childrenscenterva.com
SUMMARY:EHS and HS Closed - Teacher Workday
DESCRIPTION:EHS and HS classes Closed 10/24/2023 – Teacher Workday
URL:https://www.childrenscenterva.com/event/ehs-and-hs-closed-teacher-workday-5/
CATEGORIES:EHS/Head Start Parents,Head Start Parents,Closings
END:VEVENT
BEGIN:VEVENT
DTSTART;VALUE=DATE:20230929
DTEND;VALUE=DATE:20230930
DTSTAMP:20260423T015047
CREATED:20230725T195257Z
LAST-MODIFIED:20230801T163046Z
UID:10000035-1695945600-1696031999@www.childrenscenterva.com
SUMMARY:EHS and HS Closed - Teacher Workday
DESCRIPTION:EHS and HS classes Closed 9/29/2023 – Teacher Workday
URL:https://www.childrenscenterva.com/event/ehs-and-hs-closed-teacher-workday-4/
CATEGORIES:EHS/Head Start Parents,Head Start Parents,Closings
END:VEVENT
BEGIN:VEVENT
DTSTART;VALUE=DATE:20230807
DTEND;VALUE=DATE:20230808
DTSTAMP:20260423T015047
CREATED:20230329T160933Z
LAST-MODIFIED:20230801T163130Z
UID:10000030-1691366400-1691452799@www.childrenscenterva.com
SUMMARY:EHS Closed - Teacher Workday
DESCRIPTION:EHS classes Closed 8/7/2023- Teacher Workday
URL:https://www.childrenscenterva.com/event/ehs-closed-teacher-workday/
CATEGORIES:EHS/Head Start Parents,Head Start Parents,EHS Parents,Closings
END:VEVENT
BEGIN:VEVENT
DTSTART;VALUE=DATE:20230510
DTEND;VALUE=DATE:20230511
DTSTAMP:20260423T015047
CREATED:20230329T144609Z
LAST-MODIFIED:20230329T144618Z
UID:10000015-1683676800-1683763199@www.childrenscenterva.com
SUMMARY:EHS and HS Closed - Teacher Workday
DESCRIPTION:EHS and HS Closed – Teacher Workday
URL:https://www.childrenscenterva.com/event/ehs-and-hs-closed-teacher-workday-2/
CATEGORIES:EHS/Head Start Parents,Head Start Parents
END:VEVENT
BEGIN:VEVENT
DTSTART;VALUE=DATE:20230428
DTEND;VALUE=DATE:20230429
DTSTAMP:20260423T015047
CREATED:20230329T144843Z
LAST-MODIFIED:20230329T144843Z
UID:10000017-1682640000-1682726399@www.childrenscenterva.com
SUMMARY:EHS and HS Closed - Teacher Workday
DESCRIPTION:EHS and HS Closed – Teacher Workday
URL:https://www.childrenscenterva.com/event/ehs-and-hs-closed-teacher-workday-3/
CATEGORIES:EHS/Head Start Parents,Head Start Parents
END:VEVENT
BEGIN:VEVENT
DTSTART;VALUE=DATE:20230410
DTEND;VALUE=DATE:20230415
DTSTAMP:20260423T015047
CREATED:20230306T184018Z
LAST-MODIFIED:20230306T184018Z
UID:10000014-1681084800-1681516799@www.childrenscenterva.com
SUMMARY:EHS/HS - Spring Break - April 10 thru April 14
DESCRIPTION:EHS and HS – Spring Break – April 10 thru April 14
URL:https://www.childrenscenterva.com/event/ehs-hs-spring-break-april-10-thru-april-14/
CATEGORIES:EHS/Head Start Parents
END:VEVENT
BEGIN:VEVENT
DTSTART;VALUE=DATE:20230313
DTEND;VALUE=DATE:20230314
DTSTAMP:20260423T015047
CREATED:20230306T183609Z
LAST-MODIFIED:20230306T183651Z
UID:10000012-1678665600-1678751999@www.childrenscenterva.com
SUMMARY:EHS and HS Closed - Teacher Workday
DESCRIPTION:EHS and HS Closed – Teacher Workday
URL:https://www.childrenscenterva.com/event/ehs-and-hs-closed-teacher-workday/
CATEGORIES:EHS/Head Start Parents,Head Start Parents
END:VEVENT
BEGIN:VEVENT
DTSTART;VALUE=DATE:20230217
DTEND;VALUE=DATE:20230218
DTSTAMP:20260423T015047
CREATED:20230123T204629Z
LAST-MODIFIED:20230123T204629Z
UID:10000007-1676592000-1676678399@www.childrenscenterva.com
SUMMARY:Teacher Work Day
DESCRIPTION:All EHS and HS Classes closed for Teacher Work Day.
URL:https://www.childrenscenterva.com/event/teacher-work-day-2/
CATEGORIES:EHS/Head Start Parents
END:VEVENT
BEGIN:VEVENT
DTSTART;VALUE=DATE:20230208
DTEND;VALUE=DATE:20230209
DTSTAMP:20260423T015047
CREATED:20230123T204345Z
LAST-MODIFIED:20230123T204443Z
UID:10000006-1675814400-1675900799@www.childrenscenterva.com
SUMMARY:Teacher Training Day
DESCRIPTION:All EHS and HS classes Closed – Teacher Training Day
URL:https://www.childrenscenterva.com/event/ehs-and-hs-closed-teacher-training-day/
CATEGORIES:EHS/Head Start Parents
END:VEVENT
BEGIN:VEVENT
DTSTART;VALUE=DATE:20230130
DTEND;VALUE=DATE:20230131
DTSTAMP:20260423T015047
CREATED:20230123T204041Z
LAST-MODIFIED:20230123T204711Z
UID:10000005-1675036800-1675123199@www.childrenscenterva.com
SUMMARY:Teacher Work Day
DESCRIPTION:All EHS and HS Classes closed for Teacher Work Day.
URL:https://www.childrenscenterva.com/event/teacher-work-day/
CATEGORIES:EHS/Head Start Parents
END:VEVENT
END:VCALENDAR